BEGIN:VCALENDAR
VERSION:2.0
PRODID:-//ChamberMaster//Event Calendar 2.0//EN
METHOD:PUBLISH
X-PUBLISHED-TTL:P3D
REFRESH-INTERVAL:P3D
CALSCALE:GREGORIAN
BEGIN:VEVENT
DTSTART:20250605T213000Z
DTEND:20250605T230000Z
X-MICROSOFT-CDO-ALLDAYEVENT:FALSE
SUMMARY:Kline & Co Ribbon Cutting / Business After Hours
DESCRIPTION:Join us for a combo! Business After Hours from 4:30-6\, with a ribbon cutting celebrating their new location at 4:30
X-ALT-DESC;FMTTYPE=text/html:Join us for a combo! Business After Hours from 4:30-6\, with a ribbon cutting celebrating their new location at 4:30
LOCATION:5 North Main\, Perryville\, MO
UID:e.2632.3762
SEQUENCE:3
DTSTAMP:20260421T121617Z
URL:https://business.perryvillemo.com/events/details/kline-co-ribbon-cutting-business-after-hours-3762
END:VEVENT

END:VCALENDAR
